BEGIN:VCALENDAR
VERSION:2.0
PRODID:-//Not Your Typical Line Dance - ECPv6.15.12.2//NONSGML v1.0//EN
CALSCALE:GREGORIAN
METHOD:PUBLISH
X-WR-CALNAME:Not Your Typical Line Dance
X-ORIGINAL-URL:https://nytl.dance
X-WR-CALDESC:Events for Not Your Typical Line Dance
REFRESH-INTERVAL;VALUE=DURATION:PT1H
X-Robots-Tag:noindex
X-PUBLISHED-TTL:PT1H
BEGIN:VTIMEZONE
TZID:America/Chicago
BEGIN:DAYLIGHT
TZOFFSETFROM:-0600
TZOFFSETTO:-0500
TZNAME:CDT
DTSTART:20240310T080000
END:DAYLIGHT
BEGIN:STANDARD
TZOFFSETFROM:-0500
TZOFFSETTO:-0600
TZNAME:CST
DTSTART:20241103T070000
END:STANDARD
BEGIN:DAYLIGHT
TZOFFSETFROM:-0600
TZOFFSETTO:-0500
TZNAME:CDT
DTSTART:20250309T080000
END:DAYLIGHT
BEGIN:STANDARD
TZOFFSETFROM:-0500
TZOFFSETTO:-0600
TZNAME:CST
DTSTART:20251102T070000
END:STANDARD
BEGIN:DAYLIGHT
TZOFFSETFROM:-0600
TZOFFSETTO:-0500
TZNAME:CDT
DTSTART:20260308T080000
END:DAYLIGHT
BEGIN:STANDARD
TZOFFSETFROM:-0500
TZOFFSETTO:-0600
TZNAME:CST
DTSTART:20261101T070000
END:STANDARD
END:VTIMEZONE
BEGIN:VEVENT
DTSTART;TZID=America/Chicago:20250907T074500
DTEND;TZID=America/Chicago:20250907T090000
DTSTAMP:20260419T234603
CREATED:20250829T141802Z
LAST-MODIFIED:20250829T142858Z
UID:3754-1757231100-1757235600@nytl.dance
SUMMARY:Line Dancing at Swallow Cliff - NYTLD Class w/Tish!
DESCRIPTION:This is part of the Good Steps\, Good People energy I’m bringing to all my classes\, where the vibe is strong\, the music hits\, and the steps are always beginner-friendly. \nDance. Climb. Brunch. Repeat. \nJoin us Sunday\, July 2othfor a special early morning line dance session at Swallow Cliff from 7:45 AM to 9:00 AM. \nIn this class we will spotlight the body roll! Also\, we will save the last 15 minutes to revisit some of our favorites. \nAfter class\, you’re welcome to join us for a one-time stair walk (just one flight up and down\, we promise 😅)\, then we’ll head brunch around 10 AM. \n🎟️ Class Fee: Covers the dance class only \n🥾 Stair walk = free \n🥐 Brunch = buy your own deliciousness \nOptional stair walk. Optional brunch. But the dancing? Non-negotiable 💃🏽 \n\n\nhttps://www.eventbee.com/v/line-dancing-at-swallow-cliff-nytld-class-wtish/event?eid=285128422#/tickets
URL:https://nytl.dance/event/line-dancing-at-swallow-cliff-nytld-class-w-tish/
LOCATION:Swallow Cliff\, Sag Valley Trail\, Palos Park\, IL\, 60464\, United States
CATEGORIES:NYTLD
ATTACH;FMTTYPE=image/jpeg:https://nytl.dance/wp-content/uploads/2025/08/3BBNNDN.jpg
ORGANIZER;CN="Not Your Typical Line Dance":MAILTO:info@NYTL.dance
END:VEVENT
BEGIN:VEVENT
DTSTART;TZID=America/Chicago:20250905T111500
DTEND;TZID=America/Chicago:20250905T124500
DTSTAMP:20260419T234603
CREATED:20250829T145510Z
LAST-MODIFIED:20250829T145510Z
UID:3773-1757070900-1757076300@nytl.dance
SUMMARY:Good Steps & Good People Line Dance
DESCRIPTION:No Walkins. Register here! \nBrought to you by Not Your Typical Line Dance founder Tish Littlejohn this beginner-friendly class is all about energy\, joy\, and community. Most classes highlight soul line dancing\, with popular favorites\, crowd-pleasing classics\, and original routines you can’t find anywhere else. For a twist of variety and excitement\, one class in each series will feature a special theme that celebrates different genres of music\, so get ready to slip on your country boots and swirl your salsa skirt. Every week is about good steps\, good people\, and great vibes. \n 
URL:https://nytl.dance/event/good-steps-good-people-line-dance-4/
LOCATION:Dole Center Studio 5 – Dance/Fitness (2nd Floor)\, 255 Augusta Street\, Oak Park\, IL\, 60302\, United States
CATEGORIES:NYTLD
ATTACH;FMTTYPE=image/jpeg:https://nytl.dance/wp-content/uploads/2025/08/CLASS.jpg
ORGANIZER;CN="Park District of Oak Park":MAILTO:lifelonglearners@pdop.org
END:VEVENT
END:VCALENDAR