BEGIN:VCALENDAR
VERSION:2.0
PRODID:-//Not Your Typical Line Dance - ECPv6.15.12.2//NONSGML v1.0//EN
CALSCALE:GREGORIAN
METHOD:PUBLISH
X-WR-CALNAME:Not Your Typical Line Dance
X-ORIGINAL-URL:https://nytl.dance
X-WR-CALDESC:Events for Not Your Typical Line Dance
REFRESH-INTERVAL;VALUE=DURATION:PT1H
X-Robots-Tag:noindex
X-PUBLISHED-TTL:PT1H
BEGIN:VTIMEZONE
TZID:America/Chicago
BEGIN:DAYLIGHT
TZOFFSETFROM:-0600
TZOFFSETTO:-0500
TZNAME:CDT
DTSTART:20250309T080000
END:DAYLIGHT
BEGIN:STANDARD
TZOFFSETFROM:-0500
TZOFFSETTO:-0600
TZNAME:CST
DTSTART:20251102T070000
END:STANDARD
BEGIN:DAYLIGHT
TZOFFSETFROM:-0600
TZOFFSETTO:-0500
TZNAME:CDT
DTSTART:20260308T080000
END:DAYLIGHT
BEGIN:STANDARD
TZOFFSETFROM:-0500
TZOFFSETTO:-0600
TZNAME:CST
DTSTART:20261101T070000
END:STANDARD
BEGIN:DAYLIGHT
TZOFFSETFROM:-0600
TZOFFSETTO:-0500
TZNAME:CDT
DTSTART:20270314T080000
END:DAYLIGHT
BEGIN:STANDARD
TZOFFSETFROM:-0500
TZOFFSETTO:-0600
TZNAME:CST
DTSTART:20271107T070000
END:STANDARD
END:VTIMEZONE
BEGIN:VEVENT
DTSTART;TZID=America/Chicago:20260125T150000
DTEND;TZID=America/Chicago:20260125T160000
DTSTAMP:20260424T011737
CREATED:20251229T225927Z
LAST-MODIFIED:20260107T205355Z
UID:4085-1769353200-1769356800@nytl.dance
SUMMARY:OAK PARK LINE DANCE WORKSHOP
DESCRIPTION:Register here! \nIf you can move\, you can dance\, and this class will prove it! Line dancing isn’t just steps\, it’s an experience anyone can enjoy. You’ll learn fun\, easy-to-follow routines set to great music while building coordination and confidence. This free introductory class is family friendly\, but you’re welcome to come solo or with friends. It’s for everybody. \n 
URL:https://nytl.dance/event/oak-park-line-dance-workshop-2/
LOCATION:Dole Center Studio 5 – Dance/Fitness (2nd Floor)\, 255 Augusta Street\, Oak Park\, IL\, 60302\, United States
CATEGORIES:NYTLD
ATTACH;FMTTYPE=image/jpeg:https://nytl.dance/wp-content/uploads/2022/05/278738296_10160116570207074_5875935554102630159_n.jpg
ORGANIZER;CN="Park District of Oak Park":MAILTO:lifelonglearners@pdop.org
END:VEVENT
END:VCALENDAR